BEGIN:VCALENDAR
VERSION:2.0
PRODID:-//First Education - ECPv6.0.6.2//NONSGML v1.0//EN
CALSCALE:GREGORIAN
METHOD:PUBLISH
X-WR-CALNAME:First Education
X-ORIGINAL-URL:https://firsteducation.com.au
X-WR-CALDESC:Events for First Education
REFRESH-INTERVAL;VALUE=DURATION:PT1H
X-Robots-Tag:noindex
X-PUBLISHED-TTL:PT1H
BEGIN:VTIMEZONE
TZID:Australia/Sydney
BEGIN:STANDARD
TZOFFSETFROM:+1100
TZOFFSETTO:+1000
TZNAME:AEST
DTSTART:20220402T160000
END:STANDARD
BEGIN:DAYLIGHT
TZOFFSETFROM:+1000
TZOFFSETTO:+1100
TZNAME:AEDT
DTSTART:20221001T160000
END:DAYLIGHT
END:VTIMEZONE
BEGIN:VEVENT
DTSTART;TZID=Australia/Sydney:20220706T020000
DTEND;TZID=Australia/Sydney:20220706T040000
DTSTAMP:20260423T102749
CREATED:20211013T184715Z
LAST-MODIFIED:20211013T185914Z
UID:15940-1657072800-1657080000@firsteducation.com.au
SUMMARY:Year 11 Maths Extension 2 Program Bondi
DESCRIPTION:The First Education HSC Mathematics Extension 2 (4 Unit) Program is intended for the purpose of guiding HSC students through their HSC Maths studies at a slightly faster rate than what they are likely to experience in the classroom. The program combines learning in small groups\, interacting individually with the tutor\, doing homework\, and experiencing exam style conditions to allow each student to build their passion and confidence in their maths to conquer their goals!! \nCost of Small Group Sessions – $96 per 2 hour session. \nFor more information please check out our HSC Mathematics Extension 2 Program below or find our printable copy here\, contact Harry Mav on 0401 937 879 or fill in the form below to have Harry Mav contact you! \n  \n\n\n\nStructure of each weekly session (2 hours)\n\n\n30 mins\nGoing through homework\n\n\n30 mins\nSession 1 content\n\n\n5 mins\nQuick break / Game\n\n\n30 mins\nSession 2 content\n\n\n25 mins\nQuestions on Session 1 and 2 content\n\n\n\n  \n\n\n\n \n\n\nYear 11 Term 4\n\n\nWeek 1\nComplex Numbers A\n\n\nWeek 2\n Complex Numbers B\n\n\nWeek 3\n Complex Numbers C\n\n\nWeek 4\n Complex Numbers D\n\n\nWeek 5\nRevision\n\n\nWeek 6\nProofs A\n\n\nWeek 7\nProofs B\n\n\nWeek 8\nProofs C\n\n\nWeek 9\nProofs D\n\n\nWeek 10\nRevision\n\n\n\n  \n\n\n\n \n\n\nYear 12 Term 1\n\n\nWeek 1\nDe Moivre’s Theorem A\n\n\nWeek 2\nDe Moivre’s Theorem B\n\n\nWeek 3\nRevision\n\n\nWeek 4\nIntegration A\n\n\nWeek 5\nIntegration B\n\n\nWeek 6\nIntegration C\n\n\nWeek 7\nIntegration D\n\n\nWeek 8\nIntegration E\n\n\nWeek 9\nIntegration F\n\n\nWeek 10\nIntegration G\n\n\nHol 1\nRevision\n\n\nHol 2\nRevision\n\n\n\n  \n\n\n\n \n\n\nYear 12 Term 2\n\n\nWeek 1\nVectors A\n\n\nWeek 2\nVectors B\n\n\nWeek 3\nVectors C\n\n\nWeek 4\nRevision\n\n\nWeek 5\nMechanics A\n\n\nWeek 6\nMechanics B\n\n\nWeek 7\nMechanics C\n\n\nWeek 8\nMechanics D\n\n\nWeek 9\nMechanics E\n\n\nWeek 10\nRevision\n\n\n\n  \nYear 12 Term 3 and lead up to HSC – Practice exam papers to prepare for Trial and HSC exams. \n\n \n 
URL:https://firsteducation.com.au/program/year-11-maths-extension-2-program-bondi-2-2022-07-05/
LOCATION:Bondi\, Level 1/158 Bondi Rd\, Bondi\, NSW\, 2026\, Australia
CATEGORIES:Year 11 Maths Extension 2
END:VEVENT
END:VCALENDAR